BEGIN:VCALENDAR
VERSION:2.0
PRODID:-//Trawler-Calendar-Tool 0.2
METHOD:PUBLISH
BEGIN:VTIMEZONE
TZID:Europe/Berlin
BEGIN:STANDARD
TZNAME:CET
DTSTART:20100101T010000
RRULE:FREQ=YEARLY;BYDAY=-1SU;BYMONTH=10
TZOFFSETFROM:+0200
TZOFFSETTO:+0100
END:STANDARD
BEGIN:DAYLIGHT
TZNAME:CEST
DTSTART:20100101T010000
RRULE:FREQ=YEARLY;BYDAY=-1SU;BYMONTH=3
TZOFFSETFROM:+0100
TZOFFSETTO:+0200
END:DAYLIGHT
END:VTIMEZONE
X-WR-TIMEZONE:Europe/Berlin
X-ORIGINAL-URL:https://www.spd-breisach.de/termine/
BEGIN:VEVENT
DTSTART;TZID=Europe/Berlin:20260420T180000
DTEND;TZID=Europe/Berlin:20260420T190000
LOCATION:Neutorplatz Breisach
SUMMARY:520. Mahnwache
DESCRIPTION:Aus Anlass der Jahrestage (15 - Fukushima + 40 - Tschernobyl) wurden
   die von der SPD-Breisach veranstalteten Montagsmahnwachen für 8
   Wochen wieder aufgenommen.
X-ALT-DESC;FMTTYPE=text/plain:Aus Anlass der Jahrestage (15 - Fukushima + 40 - Tschernobyl) wurden
   die von der SPD-Breisach veranstalteten Montagsmahnwachen f&uuml\;r 8
   Wochen wieder aufgenommen.
PRIORITY:5
UID:wscms192881-breisach-0bcd8cd1d351cea3fb74e3bf447da139
URL:https://www.spd-breisach.de/calendar192881.ics
END:VEVENT
END:VCALENDAR