BEGIN:VCALENDAR
VERSION:2.0
PRODID:-//Trawler-Calendar-Tool 0.2
METHOD:PUBLISH
BEGIN:VTIMEZONE
TZID:Europe/Berlin
BEGIN:STANDARD
TZNAME:CET
DTSTART:20100101T010000
RRULE:FREQ=YEARLY;BYDAY=-1SU;BYMONTH=10
TZOFFSETFROM:+0200
TZOFFSETTO:+0100
END:STANDARD
BEGIN:DAYLIGHT
TZNAME:CEST
DTSTART:20100101T010000
RRULE:FREQ=YEARLY;BYDAY=-1SU;BYMONTH=3
TZOFFSETFROM:+0100
TZOFFSETTO:+0200
END:DAYLIGHT
END:VTIMEZONE
X-WR-TIMEZONE:Europe/Berlin
X-ORIGINAL-URL:https://www.spd-breisach.de/termine/
BEGIN:VEVENT
DTSTART;TZID=Europe/Berlin:20260423T190000
DTEND;TZID=Europe/Berlin:20260423T210000
LOCATION:Albaneum Bad Krozingen\, Joseph-Vomstein-Str. 6 in Bad Krozingen
SUMMARY:Unsere Demokratie in Gefahr?
DESCRIPTION:Thema "Unsere Demokratie in
   Gefahr!?" 
 
 Wann: Donnerstag\, 23. April 2026
   um 19 Uhr (Einlass ab 18 Uhr)
 Wo: Albaneum Bad Krozingen\,
   Joseph-Vomstein-Str. 6 in Bad Krozingen
 
 Der
   "Fehler" einer Demokratie ist\, dass diese theoretisch sogar
   durch demokratische Wahlen abgeschafft werden könnte - die
   nötigen Mehrheiten vorausgesetzt. Ebenso sehen wir in anderen
   Ländern\, wie gefestigte Demokratien sich aushöhlen lassen und
   einzelne Machthaber und Ihre Familien mit oftmals finanzkräftigen
   Unterstützern Autokratien aufbauen und die für uns sicher
   geglaubten Werte untergraben und aushebeln.
 
 Podiumsteilnehmer sind:
 - der ehemalige
   Vorsitzende des Bundesverfassungsgerichts Andreas Vosskuhle aus
   Freiburg
 - der ehemalige und langjährige
   Außenminister Jean Asselborn aus Luxemburg
 - Jenny Haas vom Bündnis gegen
   Rassismus aus Offenburg.
 Moderation:
 durch den
   ehemaligen Studioleiter des SWR Christoph Ebner.
 
 Wir
   möchten mit dieser Veranstaltung den Ist-Zustand aufzeigen\, die Meta
   Ebene mit dem Staatsrechtler Vosskuhle beleuchten. Für die
   Erfahrungen in Europa und der Welt steht der mit 19 Jahren
   dienstälteste ehemalige Außenminister Asselborn parat und
   Jenny Haas wird uns einen Einblick geben\, was wir alle mit
   bürgerschaftlichem Engagement tun können. 
 
 Eine
   Veranstaltung des OV Bad Krozingen und des KV Breisgau-Hochschwarzwald
 Der Bewirtung erfolgt duech den OV Bad Krozingen
 
 Wir freuen
   uns über ein volles Haus im Gemeindesaal der kath.
   Kirchengemeinde.
X-ALT-DESC;FMTTYPE=text/plain:Thema &quot\;Unsere Demokratie in
   Gefahr!?&quot\;&nbsp\;
 
 Wann: Donnerstag\, 23. April 2026
   um 19 Uhr (Einlass ab 18 Uhr)
 Wo: Albaneum Bad Krozingen\,
   Joseph-Vomstein-Str. 6 in Bad Krozingen
 
 Der
   &quot\;Fehler&quot\; einer Demokratie ist\, dass diese theoretisch sogar
   durch demokratische Wahlen abgeschafft werden k&ouml\;nnte - die
   n&ouml\;tigen Mehrheiten vorausgesetzt. Ebenso sehen wir in anderen
   L&auml\;ndern\, wie gefestigte Demokratien sich aush&ouml\;hlen lassen und
   einzelne Machthaber und Ihre Familien mit oftmals finanzkr&auml\;ftigen
   Unterst&uuml\;tzern Autokratien aufbauen und die f&uuml\;r uns sicher
   geglaubten Werte untergraben und aushebeln.
 
 Podiumsteilnehmer sind:
 -&nbsp\;der&nbsp\;ehemalige
   Vorsitzende des Bundesverfassungsgerichts Andreas Vosskuhle&nbsp\;aus
   Freiburg
 -&nbsp\;der ehemalige und&nbsp\;langj&auml\;hrige
   Au&szlig\;enminister Jean Asselborn aus Luxemburg
 -&nbsp\;Jenny Haas&nbsp\;vom&nbsp\;B&uuml\;ndnis gegen
   Rassismus&nbsp\;aus Offenburg.
 Moderation:
 durch den
   ehemaligen Studioleiter des SWR Christoph Ebner.
 
 Wir
   m&ouml\;chten mit dieser Veranstaltung den Ist-Zustand aufzeigen\, die Meta
   Ebene mit dem Staatsrechtler Vosskuhle beleuchten. F&uuml\;r die
   Erfahrungen in Europa und der Welt steht der mit 19 Jahren
   dienst&auml\;lteste ehemalige Au&szlig\;enminister Asselborn parat und
   Jenny Haas wird uns einen Einblick geben\, was wir alle mit
   b&uuml\;rgerschaftlichem Engagement tun k&ouml\;nnen.&nbsp\;
 
 Eine
   Veranstaltung des OV Bad Krozingen und des KV Breisgau-Hochschwarzwald
 Der Bewirtung erfolgt duech den OV Bad Krozingen
 
 Wir freuen
   uns&nbsp\;&uuml\;ber ein volles Haus im Gemeindesaal der kath.
   Kirchengemeinde.
PRIORITY:5
UID:wscms192724-breisghochschw-0bcd8cd1d351cea3fb74e3bf447da139
URL:https://www.spd-breisach.de/calendar192724.ics
END:VEVENT
END:VCALENDAR